BEGIN:VCALENDAR
VERSION:2.0
PRODID:-//Blackstone Valley Chamber of Commerce - ECPv6.15.20//NONSGML v1.0//EN
CALSCALE:GREGORIAN
METHOD:PUBLISH
X-WR-CALNAME:Blackstone Valley Chamber of Commerce
X-ORIGINAL-URL:https://blackstonevalley.org
X-WR-CALDESC:Events for Blackstone Valley Chamber of Commerce
REFRESH-INTERVAL;VALUE=DURATION:PT1H
X-Robots-Tag:noindex
X-PUBLISHED-TTL:PT1H
BEGIN:VTIMEZONE
TZID:America/New_York
BEGIN:DAYLIGHT
TZOFFSETFROM:-0500
TZOFFSETTO:-0400
TZNAME:EDT
DTSTART:20230312T070000
END:DAYLIGHT
BEGIN:STANDARD
TZOFFSETFROM:-0400
TZOFFSETTO:-0500
TZNAME:EST
DTSTART:20231105T060000
END:STANDARD
BEGIN:DAYLIGHT
TZOFFSETFROM:-0500
TZOFFSETTO:-0400
TZNAME:EDT
DTSTART:20240310T070000
END:DAYLIGHT
BEGIN:STANDARD
TZOFFSETFROM:-0400
TZOFFSETTO:-0500
TZNAME:EST
DTSTART:20241103T060000
END:STANDARD
BEGIN:DAYLIGHT
TZOFFSETFROM:-0500
TZOFFSETTO:-0400
TZNAME:EDT
DTSTART:20250309T070000
END:DAYLIGHT
BEGIN:STANDARD
TZOFFSETFROM:-0400
TZOFFSETTO:-0500
TZNAME:EST
DTSTART:20251102T060000
END:STANDARD
END:VTIMEZONE
BEGIN:VEVENT
DTSTART;TZID=America/New_York:20240912T090000
DTEND;TZID=America/New_York:20240912T100000
DTSTAMP:20260425T194709
CREATED:20240912T215739Z
LAST-MODIFIED:20240925T000517Z
UID:10002585-1726131600-1726135200@blackstonevalley.org
SUMMARY:Food\, Beverage and Hospitality Network Meeting -Sept
DESCRIPTION:
URL:https://blackstonevalley.org/event/food-beverage-and-hospitality-network-meeting-sept/
CATEGORIES:Chamber of Commerce,Community,Educational,Featured
END:VEVENT
BEGIN:VEVENT
DTSTART;TZID=America/New_York:20240917T110000
DTEND;TZID=America/New_York:20240917T120000
DTSTAMP:20260425T194710
CREATED:20240828T193234Z
LAST-MODIFIED:20240908T155655Z
UID:10002572-1726570800-1726574400@blackstonevalley.org
SUMMARY:The AI Strategy Roundtable with Compound Effect
DESCRIPTION:Register today by visiting: \nhttps://ai.getcompoundeffect.com/ai-strategy-roundtable-ce
URL:https://blackstonevalley.org/event/the-ai-strategy-roundtable-with-compound-effect/
CATEGORIES:Chamber of Commerce,Community,Educational,Featured
ORGANIZER;CN="Liz O'Neil":MAILTO:loneil@blackstonevalley.org
END:VEVENT
END:VCALENDAR