BEGIN:VCALENDAR
VERSION:2.0
PRODID:-//Blackstone Valley Chamber of Commerce - ECPv6.15.20//NONSGML v1.0//EN
CALSCALE:GREGORIAN
METHOD:PUBLISH
X-ORIGINAL-URL:https://blackstonevalley.org
X-WR-CALDESC:Events for Blackstone Valley Chamber of Commerce
REFRESH-INTERVAL;VALUE=DURATION:PT1H
X-Robots-Tag:noindex
X-PUBLISHED-TTL:PT1H
BEGIN:VTIMEZONE
TZID:America/New_York
BEGIN:DAYLIGHT
TZOFFSETFROM:-0500
TZOFFSETTO:-0400
TZNAME:EDT
DTSTART:20240310T070000
END:DAYLIGHT
BEGIN:STANDARD
TZOFFSETFROM:-0400
TZOFFSETTO:-0500
TZNAME:EST
DTSTART:20241103T060000
END:STANDARD
BEGIN:DAYLIGHT
TZOFFSETFROM:-0500
TZOFFSETTO:-0400
TZNAME:EDT
DTSTART:20250309T070000
END:DAYLIGHT
BEGIN:STANDARD
TZOFFSETFROM:-0400
TZOFFSETTO:-0500
TZNAME:EST
DTSTART:20251102T060000
END:STANDARD
BEGIN:DAYLIGHT
TZOFFSETFROM:-0500
TZOFFSETTO:-0400
TZNAME:EDT
DTSTART:20260308T070000
END:DAYLIGHT
BEGIN:STANDARD
TZOFFSETFROM:-0400
TZOFFSETTO:-0500
TZNAME:EST
DTSTART:20261101T060000
END:STANDARD
END:VTIMEZONE
BEGIN:VEVENT
DTSTART;TZID=America/New_York:20250109T090000
DTEND;TZID=America/New_York:20250109T100000
DTSTAMP:20260425T122145
CREATED:20240912T220144Z
LAST-MODIFIED:20240925T000258Z
UID:10002587-1736413200-1736416800@blackstonevalley.org
SUMMARY:Food\, Beverage and Hospitality Network Meeting - Jan
DESCRIPTION:
URL:https://blackstonevalley.org/event/food-beverage-and-hospitality-network-meeting-jan/
CATEGORIES:Chamber of Commerce,Community,Educational,Featured
END:VEVENT
BEGIN:VEVENT
DTSTART;TZID=America/New_York:20250121T110000
DTEND;TZID=America/New_York:20250121T120000
DTSTAMP:20260425T122145
CREATED:20240910T011702Z
LAST-MODIFIED:20240910T011702Z
UID:10002577-1737457200-1737460800@blackstonevalley.org
SUMMARY:The AI Strategy Roundtable with Compound Effect - Jan
DESCRIPTION:Register today by visiting:\nhttps://ai.getcompoundeffect.com/ai-strategy-roundtable-ce
URL:https://blackstonevalley.org/event/the-ai-strategy-roundtable-with-compound-effect-jan/
CATEGORIES:Chamber of Commerce,Community,Educational,Featured
ORGANIZER;CN="Liz O'Neil":MAILTO:loneil@blackstonevalley.org
END:VEVENT
END:VCALENDAR