BEGIN:VCALENDAR
VERSION:2.0
PRODID:-//Blackstone Valley Chamber of Commerce - ECPv6.15.20//NONSGML v1.0//EN
CALSCALE:GREGORIAN
METHOD:PUBLISH
X-WR-CALNAME:Blackstone Valley Chamber of Commerce
X-ORIGINAL-URL:https://blackstonevalley.org
X-WR-CALDESC:Events for Blackstone Valley Chamber of Commerce
REFRESH-INTERVAL;VALUE=DURATION:PT1H
X-Robots-Tag:noindex
X-PUBLISHED-TTL:PT1H
BEGIN:VTIMEZONE
TZID:America/New_York
BEGIN:DAYLIGHT
TZOFFSETFROM:-0500
TZOFFSETTO:-0400
TZNAME:EDT
DTSTART:20240310T070000
END:DAYLIGHT
BEGIN:STANDARD
TZOFFSETFROM:-0400
TZOFFSETTO:-0500
TZNAME:EST
DTSTART:20241103T060000
END:STANDARD
BEGIN:DAYLIGHT
TZOFFSETFROM:-0500
TZOFFSETTO:-0400
TZNAME:EDT
DTSTART:20250309T070000
END:DAYLIGHT
BEGIN:STANDARD
TZOFFSETFROM:-0400
TZOFFSETTO:-0500
TZNAME:EST
DTSTART:20251102T060000
END:STANDARD
BEGIN:DAYLIGHT
TZOFFSETFROM:-0500
TZOFFSETTO:-0400
TZNAME:EDT
DTSTART:20260308T070000
END:DAYLIGHT
BEGIN:STANDARD
TZOFFSETFROM:-0400
TZOFFSETTO:-0500
TZNAME:EST
DTSTART:20261101T060000
END:STANDARD
END:VTIMEZONE
BEGIN:VEVENT
DTSTART;TZID=America/New_York:20250617T090000
DTEND;TZID=America/New_York:20250617T110000
DTSTAMP:20260423T062422
CREATED:20250430T183212Z
LAST-MODIFIED:20250501T151634Z
UID:10002623-1750150800-1750158000@blackstonevalley.org
SUMMARY:Business Resource Open Office Hours
DESCRIPTION: 
URL:https://blackstonevalley.org/event/business-resource-open-office-hours/
CATEGORIES:Chamber of Commerce,Community,Educational,Featured
END:VEVENT
BEGIN:VEVENT
DTSTART;TZID=America/New_York:20250617T110000
DTEND;TZID=America/New_York:20250617T120000
DTSTAMP:20260423T062422
CREATED:20240910T012258Z
LAST-MODIFIED:20250612T201305Z
UID:10002580-1750158000-1750161600@blackstonevalley.org
SUMMARY:The AI Strategy Roundtable with Compound Effect - June
DESCRIPTION:  \nThis event has been cancelled. 
URL:https://blackstonevalley.org/event/the-ai-strategy-roundtable-with-compound-effect-june/
CATEGORIES:Chamber of Commerce,Community,Educational,Featured
ORGANIZER;CN="Liz O'Neil":MAILTO:loneil@blackstonevalley.org
END:VEVENT
BEGIN:VEVENT
DTSTART;TZID=America/New_York:20250625T173000
DTEND;TZID=America/New_York:20250625T193000
DTSTAMP:20260423T062422
CREATED:20250416T141832Z
LAST-MODIFIED:20250624T181730Z
UID:10002613-1750872600-1750879800@blackstonevalley.org
SUMMARY:Business After Hours - Murder Hill
DESCRIPTION:Registration for this event is now closed. \nWalk in’s are welcome!\n \n 
URL:https://blackstonevalley.org/event/business-after-hours-murder-hill/
CATEGORIES:Chamber of Commerce,Community,Educational,Featured
END:VEVENT
END:VCALENDAR