BEGIN:VCALENDAR
VERSION:2.0
PRODID:-//Blackstone Valley Chamber of Commerce - ECPv6.15.20//NONSGML v1.0//EN
CALSCALE:GREGORIAN
METHOD:PUBLISH
X-ORIGINAL-URL:https://blackstonevalley.org
X-WR-CALDESC:Events for Blackstone Valley Chamber of Commerce
REFRESH-INTERVAL;VALUE=DURATION:PT1H
X-Robots-Tag:noindex
X-PUBLISHED-TTL:PT1H
BEGIN:VTIMEZONE
TZID:America/New_York
BEGIN:DAYLIGHT
TZOFFSETFROM:-0500
TZOFFSETTO:-0400
TZNAME:EDT
DTSTART:20240310T070000
END:DAYLIGHT
BEGIN:STANDARD
TZOFFSETFROM:-0400
TZOFFSETTO:-0500
TZNAME:EST
DTSTART:20241103T060000
END:STANDARD
BEGIN:DAYLIGHT
TZOFFSETFROM:-0500
TZOFFSETTO:-0400
TZNAME:EDT
DTSTART:20250309T070000
END:DAYLIGHT
BEGIN:STANDARD
TZOFFSETFROM:-0400
TZOFFSETTO:-0500
TZNAME:EST
DTSTART:20251102T060000
END:STANDARD
BEGIN:DAYLIGHT
TZOFFSETFROM:-0500
TZOFFSETTO:-0400
TZNAME:EDT
DTSTART:20260308T070000
END:DAYLIGHT
BEGIN:STANDARD
TZOFFSETFROM:-0400
TZOFFSETTO:-0500
TZNAME:EST
DTSTART:20261101T060000
END:STANDARD
BEGIN:DAYLIGHT
TZOFFSETFROM:-0500
TZOFFSETTO:-0400
TZNAME:EDT
DTSTART:20270314T070000
END:DAYLIGHT
BEGIN:STANDARD
TZOFFSETFROM:-0400
TZOFFSETTO:-0500
TZNAME:EST
DTSTART:20271107T060000
END:STANDARD
END:VTIMEZONE
BEGIN:VEVENT
DTSTART;TZID=America/New_York:20251112T100000
DTEND;TZID=America/New_York:20251112T120000
DTSTAMP:20260425T161355
CREATED:20250811T203906Z
LAST-MODIFIED:20250930T211116Z
UID:10002648-1762941600-1762948800@blackstonevalley.org
SUMMARY:Business Resource Open Office Hours
DESCRIPTION: 
URL:https://blackstonevalley.org/event/business-resource-open-office-hours-2/
CATEGORIES:Chamber of Commerce,Community,Educational,Featured
END:VEVENT
BEGIN:VEVENT
DTSTART;TZID=America/New_York:20260305T093000
DTEND;TZID=America/New_York:20260305T120000
DTSTAMP:20260425T161355
CREATED:20260121T194809Z
LAST-MODIFIED:20260121T194809Z
UID:10002699-1772703000-1772712000@blackstonevalley.org
SUMMARY:Business Resource Open Office Hours
DESCRIPTION: 
URL:https://blackstonevalley.org/event/business-resource-open-office-hours-3/
CATEGORIES:Chamber of Commerce,Community,Educational,Featured
END:VEVENT
BEGIN:VEVENT
DTSTART;TZID=America/New_York:20260511T100000
DTEND;TZID=America/New_York:20260511T180000
DTSTAMP:20260425T161355
CREATED:20251210T191155Z
LAST-MODIFIED:20260326T170702Z
UID:10002676-1778493600-1778522400@blackstonevalley.org
SUMMARY:Annual Charity Golf Tournament 2026
DESCRIPTION:Pleasant Valley Country Club\n\n\n95 Armsby Road\nSutton\, MA 01590\n\n\nThis major fundraising event for the Blackstone Valley Chamber of Commerce\, will fund essential programs to support students and schools in the Blackstone Valley. The mission of this tournament is to enrich education\, invoke innovation\, and strengthen leadership among students\, teachers\, businesses & communities in the Blackstone Valley.
URL:https://blackstonevalley.org/event/annual-charity-golf-tournament-2026/
LOCATION:Pleasant Valley Country Club\, 95 Armsby Road Sutton\, MA\, 01569\, United States
CATEGORIES:Chamber of Commerce,Community,Educational,Featured,Signature
GEO:42.1512143;-71.7369543
X-APPLE-STRUCTURED-LOCATION;VALUE=URI;X-ADDRESS=Pleasant Valley Country Club 95 Armsby Road Sutton MA 01569 United States;X-APPLE-RADIUS=500;X-TITLE=95 Armsby Road Sutton:geo:-71.7369543,42.1512143
END:VEVENT
END:VCALENDAR