BEGIN:VCALENDAR
VERSION:2.0
PRODID:-//Blackstone Valley Chamber of Commerce - ECPv6.15.20//NONSGML v1.0//EN
CALSCALE:GREGORIAN
METHOD:PUBLISH
X-ORIGINAL-URL:https://blackstonevalley.org
X-WR-CALDESC:Events for Blackstone Valley Chamber of Commerce
REFRESH-INTERVAL;VALUE=DURATION:PT1H
X-Robots-Tag:noindex
X-PUBLISHED-TTL:PT1H
BEGIN:VTIMEZONE
TZID:America/New_York
BEGIN:DAYLIGHT
TZOFFSETFROM:-0500
TZOFFSETTO:-0400
TZNAME:EDT
DTSTART:20240310T070000
END:DAYLIGHT
BEGIN:STANDARD
TZOFFSETFROM:-0400
TZOFFSETTO:-0500
TZNAME:EST
DTSTART:20241103T060000
END:STANDARD
BEGIN:DAYLIGHT
TZOFFSETFROM:-0500
TZOFFSETTO:-0400
TZNAME:EDT
DTSTART:20250309T070000
END:DAYLIGHT
BEGIN:STANDARD
TZOFFSETFROM:-0400
TZOFFSETTO:-0500
TZNAME:EST
DTSTART:20251102T060000
END:STANDARD
BEGIN:DAYLIGHT
TZOFFSETFROM:-0500
TZOFFSETTO:-0400
TZNAME:EDT
DTSTART:20260308T070000
END:DAYLIGHT
BEGIN:STANDARD
TZOFFSETFROM:-0400
TZOFFSETTO:-0500
TZNAME:EST
DTSTART:20261101T060000
END:STANDARD
END:VTIMEZONE
BEGIN:VEVENT
DTSTART;TZID=America/New_York:20250625T173000
DTEND;TZID=America/New_York:20250625T193000
DTSTAMP:20260425T084920
CREATED:20250416T141832Z
LAST-MODIFIED:20250624T181730Z
UID:10002613-1750872600-1750879800@blackstonevalley.org
SUMMARY:Business After Hours - Murder Hill
DESCRIPTION:Registration for this event is now closed. \nWalk in’s are welcome!\n \n 
URL:https://blackstonevalley.org/event/business-after-hours-murder-hill/
CATEGORIES:Chamber of Commerce,Community,Educational,Featured
END:VEVENT
END:VCALENDAR