BEGIN:VCALENDAR
VERSION:2.0
PRODID:-//Blackstone Valley Chamber of Commerce - ECPv6.15.20//NONSGML v1.0//EN
CALSCALE:GREGORIAN
METHOD:PUBLISH
X-WR-CALNAME:Blackstone Valley Chamber of Commerce
X-ORIGINAL-URL:https://blackstonevalley.org
X-WR-CALDESC:Events for Blackstone Valley Chamber of Commerce
REFRESH-INTERVAL;VALUE=DURATION:PT1H
X-Robots-Tag:noindex
X-PUBLISHED-TTL:PT1H
BEGIN:VTIMEZONE
TZID:America/New_York
BEGIN:DAYLIGHT
TZOFFSETFROM:-0500
TZOFFSETTO:-0400
TZNAME:EDT
DTSTART:20180311T070000
END:DAYLIGHT
BEGIN:STANDARD
TZOFFSETFROM:-0400
TZOFFSETTO:-0500
TZNAME:EST
DTSTART:20181104T060000
END:STANDARD
BEGIN:DAYLIGHT
TZOFFSETFROM:-0500
TZOFFSETTO:-0400
TZNAME:EDT
DTSTART:20190310T070000
END:DAYLIGHT
BEGIN:STANDARD
TZOFFSETFROM:-0400
TZOFFSETTO:-0500
TZNAME:EST
DTSTART:20191103T060000
END:STANDARD
BEGIN:DAYLIGHT
TZOFFSETFROM:-0500
TZOFFSETTO:-0400
TZNAME:EDT
DTSTART:20200308T070000
END:DAYLIGHT
BEGIN:STANDARD
TZOFFSETFROM:-0400
TZOFFSETTO:-0500
TZNAME:EST
DTSTART:20201101T060000
END:STANDARD
END:VTIMEZONE
BEGIN:VEVENT
DTSTART;TZID=America/New_York:20191106T170000
DTEND;TZID=America/New_York:20191106T190000
DTSTAMP:20260424T113615
CREATED:20191015T150729Z
LAST-MODIFIED:20191015T163620Z
UID:10002081-1573059600-1573066800@blackstonevalley.org
SUMMARY:Business After Hours at Marty's Fine Wines
DESCRIPTION:Join us to “Network & Nosh”\nComplementary wine and beer tasting\nLight Hors D’Oeuvres\nSpecial deals on purchases for attendees! \nMarty’s Fine Wines\n1 Buxton Street\nMilville\, MA
URL:https://blackstonevalley.org/event/martys-business-after-hours/
LOCATION:Marty’s Fine Wines Milville MA\, 1 Buxton Road\, Milville\, MA
GEO:42.007333;-71.606517
X-APPLE-STRUCTURED-LOCATION;VALUE=URI;X-ADDRESS=Marty’s Fine Wines Milville MA 1 Buxton Road Milville MA;X-APPLE-RADIUS=500;X-TITLE=1 Buxton Road:geo:-71.606517,42.007333
END:VEVENT
END:VCALENDAR